BEGIN:VCALENDAR
VERSION:2.0
PRODID:-//The Velvet Note - ECPv6.15.20//NONSGML v1.0//EN
CALSCALE:GREGORIAN
METHOD:PUBLISH
X-WR-CALNAME:The Velvet Note
X-ORIGINAL-URL:https://thevelvetnote.com
X-WR-CALDESC:Events for The Velvet Note
REFRESH-INTERVAL;VALUE=DURATION:PT1H
X-Robots-Tag:noindex
X-PUBLISHED-TTL:PT1H
BEGIN:VTIMEZONE
TZID:America/New_York
BEGIN:DAYLIGHT
TZOFFSETFROM:-0500
TZOFFSETTO:-0400
TZNAME:EDT
DTSTART:20210314T070000
END:DAYLIGHT
BEGIN:STANDARD
TZOFFSETFROM:-0400
TZOFFSETTO:-0500
TZNAME:EST
DTSTART:20211107T060000
END:STANDARD
BEGIN:DAYLIGHT
TZOFFSETFROM:-0500
TZOFFSETTO:-0400
TZNAME:EDT
DTSTART:20220313T070000
END:DAYLIGHT
BEGIN:STANDARD
TZOFFSETFROM:-0400
TZOFFSETTO:-0500
TZNAME:EST
DTSTART:20221106T060000
END:STANDARD
BEGIN:DAYLIGHT
TZOFFSETFROM:-0500
TZOFFSETTO:-0400
TZNAME:EDT
DTSTART:20230312T070000
END:DAYLIGHT
BEGIN:STANDARD
TZOFFSETFROM:-0400
TZOFFSETTO:-0500
TZNAME:EST
DTSTART:20231105T060000
END:STANDARD
END:VTIMEZONE
BEGIN:VEVENT
DTSTART;TZID=America/New_York:20220115T193000
DTEND;TZID=America/New_York:20220115T230000
DTSTAMP:20260424T165102
CREATED:20211227T030032Z
LAST-MODIFIED:20211227T030045Z
UID:27667-1642275000-1642287600@thevelvetnote.com
SUMMARY:Saturday\, January 15th:  Natasha Brown\, "This Thing Called Love"
DESCRIPTION:SHOWTIMES:  7:30PM AND 9:30PM.    Everyone yearns for it.  It drives some mad.  Some are completely over it\, and others strive to give the very best of it.  “This Thing Called Love” is a live jazz experience\, featuring Natasha Brown\, that will take you through the ins and outs\, ups and downs\, the bad\, the good\, and especially the best parts of love. \n\n\n\nNatasha Brown is a hidden vocal gem whose classic jazz sound is influenced by jazz greats like Betty Carter\, Ella Fitzgerald\,  Sarah Vaughn\, Carmen McCrae\, and Nancy Wilson. Her love for and serious pursuit of jazz artistry was sparked years ago at the legendary Harper Family Jam Session. Originally hosted by renowned musicians Danny and Terry Harper\,  the Atlanta jam session regularly boasted national and internationally acclaimed talent and offered a platform that reinforced excellence in musicianship and forged relationships that have allowed Natasha to regularly perform with contemporary jazz greats. \n\n\n\nAcclaimed\, international jazz trumpeter Terrence Harper concurs\, “Natasha is a ‘real’ jazz vocalist – authentic and true to the artform.”
URL:https://thevelvetnote.com/event/saturday-january-15th-natasha-brown-this-thing-called-love/
LOCATION:The Velvet Note Main Stage\, 4075 Old Milton Parkway\, Alpharetta\, 30005\, United States
ATTACH;FMTTYPE=image/jpeg:https://thevelvetnote.com/wp-content/uploads/2021/12/5712C39F-7524-4EBD-B4D4-7B43D2AF0092_4_5005_c.jpeg
END:VEVENT
END:VCALENDAR