BEGIN:VCALENDAR
VERSION:2.0
PRODID:-//The Velvet Note - ECPv6.15.20//NONSGML v1.0//EN
CALSCALE:GREGORIAN
METHOD:PUBLISH
X-ORIGINAL-URL:https://thevelvetnote.com
X-WR-CALDESC:Events for The Velvet Note
REFRESH-INTERVAL;VALUE=DURATION:PT1H
X-Robots-Tag:noindex
X-PUBLISHED-TTL:PT1H
BEGIN:VTIMEZONE
TZID:America/New_York
BEGIN:DAYLIGHT
TZOFFSETFROM:-0500
TZOFFSETTO:-0400
TZNAME:EDT
DTSTART:20210314T070000
END:DAYLIGHT
BEGIN:STANDARD
TZOFFSETFROM:-0400
TZOFFSETTO:-0500
TZNAME:EST
DTSTART:20211107T060000
END:STANDARD
BEGIN:DAYLIGHT
TZOFFSETFROM:-0500
TZOFFSETTO:-0400
TZNAME:EDT
DTSTART:20220313T070000
END:DAYLIGHT
BEGIN:STANDARD
TZOFFSETFROM:-0400
TZOFFSETTO:-0500
TZNAME:EST
DTSTART:20221106T060000
END:STANDARD
BEGIN:DAYLIGHT
TZOFFSETFROM:-0500
TZOFFSETTO:-0400
TZNAME:EDT
DTSTART:20230312T070000
END:DAYLIGHT
BEGIN:STANDARD
TZOFFSETFROM:-0400
TZOFFSETTO:-0500
TZNAME:EST
DTSTART:20231105T060000
END:STANDARD
END:VTIMEZONE
BEGIN:VEVENT
DTSTART;TZID=America/New_York:20220113T200000
DTEND;TZID=America/New_York:20220113T230000
DTSTAMP:20260424T164640
CREATED:20220112T190028Z
LAST-MODIFIED:20220112T190030Z
UID:27678-1642104000-1642114800@thevelvetnote.com
SUMMARY:Thursday\, January 13th:  Open Mic Jam Hosted by Natasha Brown
DESCRIPTION:Come out and join us on Thursday nights in the comfort of The Velvet Note Living Room.  Meet the best\, most passionate local area musicians\, make essential connections and relax and enjoy the scene.  THIS is the area fun-spot–the place to meet others who play and/or simply enjoy great music\, and it’s the ONLY Thursday night jam on the north side of town.  Only $20 and no reservations necessary.  All styles and genres are welcomed\, so scootch on in here as a performer or spectator–it’s all fun! 
URL:https://thevelvetnote.com/event/thursday-january-13th-open-mic-jam-hosted-by-natasha-brown/
LOCATION:The Velvet Note Main Stage\, 4075 Old Milton Parkway\, Alpharetta\, 30005\, United States
ATTACH;FMTTYPE=image/jpeg:https://thevelvetnote.com/wp-content/uploads/2022/01/Relax-in-the-audience-or-take-the-stage-5.jpg
END:VEVENT
END:VCALENDAR