BEGIN:VCALENDAR
VERSION:2.0
PRODID:-//The Velvet Note - ECPv6.15.20//NONSGML v1.0//EN
CALSCALE:GREGORIAN
METHOD:PUBLISH
X-WR-CALNAME:The Velvet Note
X-ORIGINAL-URL:https://thevelvetnote.com
X-WR-CALDESC:Events for The Velvet Note
REFRESH-INTERVAL;VALUE=DURATION:PT1H
X-Robots-Tag:noindex
X-PUBLISHED-TTL:PT1H
BEGIN:VTIMEZONE
TZID:America/New_York
BEGIN:DAYLIGHT
TZOFFSETFROM:-0500
TZOFFSETTO:-0400
TZNAME:EDT
DTSTART:20200308T070000
END:DAYLIGHT
BEGIN:STANDARD
TZOFFSETFROM:-0400
TZOFFSETTO:-0500
TZNAME:EST
DTSTART:20201101T060000
END:STANDARD
BEGIN:DAYLIGHT
TZOFFSETFROM:-0500
TZOFFSETTO:-0400
TZNAME:EDT
DTSTART:20210314T070000
END:DAYLIGHT
BEGIN:STANDARD
TZOFFSETFROM:-0400
TZOFFSETTO:-0500
TZNAME:EST
DTSTART:20211107T060000
END:STANDARD
BEGIN:DAYLIGHT
TZOFFSETFROM:-0500
TZOFFSETTO:-0400
TZNAME:EDT
DTSTART:20220313T070000
END:DAYLIGHT
BEGIN:STANDARD
TZOFFSETFROM:-0400
TZOFFSETTO:-0500
TZNAME:EST
DTSTART:20221106T060000
END:STANDARD
BEGIN:DAYLIGHT
TZOFFSETFROM:-0500
TZOFFSETTO:-0400
TZNAME:EDT
DTSTART:20230312T070000
END:DAYLIGHT
BEGIN:STANDARD
TZOFFSETFROM:-0400
TZOFFSETTO:-0500
TZNAME:EST
DTSTART:20231105T060000
END:STANDARD
END:VTIMEZONE
BEGIN:VEVENT
DTSTART;TZID=America/New_York:20211231T193000
DTEND;TZID=America/New_York:20220101T130000
DTSTAMP:20260424T164059
CREATED:20211202T153029Z
LAST-MODIFIED:20211221T013207Z
UID:27549-1640979000-1641042000@thevelvetnote.com
SUMMARY:Friday\, December 31st:  New Year's Eve Gala Starring Singer Lori Williams  * SOLD OUT! *
DESCRIPTION:7:30pm – 1:00am. THIS is the place to be for an comfortable\, upscale\, yet enchanting evening of popular jazz and R&B\, accompanied by delicious food\, festive spirits and great conversation. Right in your own backyard–no need to comb the chilly streets of downtown to get your party on!Your ticket includes: \n\n\n\n– Concert tickets to enjoy the all-night performance of acclaimed singer Lori Williams– A champagne toast at midnight \n\n\n\n– Non-alcoholic beverages \n\n\n\n– Party favors \n\n\n\n***  SOLD OUT!!!   SOLD OUT!!!   SOLD OUT!!!  SOLD OUT!!! SOLD OUT!!! ***
URL:https://thevelvetnote.com/event/friday-december-31st-new-years-eve-gala-starring-singer-lori-williams/
LOCATION:The Velvet Note Main Stage\, 4075 Old Milton Parkway\, Alpharetta\, 30005\, United States
ATTACH;FMTTYPE=image/jpeg:https://thevelvetnote.com/wp-content/uploads/2021/12/5252A72D-C0BD-41BE-A656-F828D2831E68.jpeg
END:VEVENT
END:VCALENDAR