BEGIN:VCALENDAR
VERSION:2.0
PRODID:-//The Velvet Note - ECPv6.15.20//NONSGML v1.0//EN
CALSCALE:GREGORIAN
METHOD:PUBLISH
X-ORIGINAL-URL:https://thevelvetnote.com
X-WR-CALDESC:Events for The Velvet Note
REFRESH-INTERVAL;VALUE=DURATION:PT1H
X-Robots-Tag:noindex
X-PUBLISHED-TTL:PT1H
BEGIN:VTIMEZONE
TZID:America/New_York
BEGIN:DAYLIGHT
TZOFFSETFROM:-0500
TZOFFSETTO:-0400
TZNAME:EDT
DTSTART:20200308T070000
END:DAYLIGHT
BEGIN:STANDARD
TZOFFSETFROM:-0400
TZOFFSETTO:-0500
TZNAME:EST
DTSTART:20201101T060000
END:STANDARD
BEGIN:DAYLIGHT
TZOFFSETFROM:-0500
TZOFFSETTO:-0400
TZNAME:EDT
DTSTART:20210314T070000
END:DAYLIGHT
BEGIN:STANDARD
TZOFFSETFROM:-0400
TZOFFSETTO:-0500
TZNAME:EST
DTSTART:20211107T060000
END:STANDARD
BEGIN:DAYLIGHT
TZOFFSETFROM:-0500
TZOFFSETTO:-0400
TZNAME:EDT
DTSTART:20220313T070000
END:DAYLIGHT
BEGIN:STANDARD
TZOFFSETFROM:-0400
TZOFFSETTO:-0500
TZNAME:EST
DTSTART:20221106T060000
END:STANDARD
END:VTIMEZONE
BEGIN:VEVENT
DTSTART;TZID=America/New_York:20211219T190000
DTEND;TZID=America/New_York:20211219T230000
DTSTAMP:20260424T182021
CREATED:20211105T035125Z
LAST-MODIFIED:20211105T035126Z
UID:27465-1639940400-1639954800@thevelvetnote.com
SUMMARY:Sunday\, December 19th:  Michelle Malone and The Hot Toddies
DESCRIPTION:“Michelle Malone and The Hot Toddies reinterpret classic Christmas songs\, creating new jazz and blues arrangements all their own that display Malone’s vocal prowess and innate ability to let her music take you to another time and place. ” \n\n\n\n— Tony Paris\, Creative Loafing \n\n\n\n \n\n\n\nSHOWTIMES:   7:00PM AND 9:00PM \n\n\n\nJoin the Hot Toddies for 2 swingin’ Christmas shows at 7pm and 9pm with all your favorite holiday songs! Come sing along to all your favorite Christmas songs\, and get in the spirit\, because… \n\n\n\n….”“Nothing puts the ‘merry’ in Christmas like Michelle Malone and The Hot Toddies” — Scott Freeman\, Arts Atlanta \n\n\n\nThe Hot Toddies are world renowned musicians who justhappened to meet in an Amtrak train station bar in Kalamazoo\, MI on a snowy Christmas Eve. While stranded in a blizzard at the train station with no chance of getting home for the holidays\, these fun-loving party favors decided to get out their instruments and provide the other stranded travelers with some real crazy holiday merriment that went into the wee hours of the morning when Santa finally arrived – and the rest is Hot Toddy history!
URL:https://thevelvetnote.com/event/sunday-december-19th-michelle-malone-and-the-hot-toddies/
LOCATION:The Velvet Note Main Stage\, 4075 Old Milton Parkway\, Alpharetta\, 30005\, United States
ATTACH;FMTTYPE=image/jpeg:https://thevelvetnote.com/wp-content/uploads/2021/11/toddies-2020.jpg
END:VEVENT
END:VCALENDAR