BEGIN:VCALENDAR
VERSION:2.0
PRODID:-//The Velvet Note - ECPv6.15.20//NONSGML v1.0//EN
CALSCALE:GREGORIAN
METHOD:PUBLISH
X-ORIGINAL-URL:https://thevelvetnote.com
X-WR-CALDESC:Events for The Velvet Note
REFRESH-INTERVAL;VALUE=DURATION:PT1H
X-Robots-Tag:noindex
X-PUBLISHED-TTL:PT1H
BEGIN:VTIMEZONE
TZID:America/New_York
BEGIN:DAYLIGHT
TZOFFSETFROM:-0500
TZOFFSETTO:-0400
TZNAME:EDT
DTSTART:20200308T070000
END:DAYLIGHT
BEGIN:STANDARD
TZOFFSETFROM:-0400
TZOFFSETTO:-0500
TZNAME:EST
DTSTART:20201101T060000
END:STANDARD
BEGIN:DAYLIGHT
TZOFFSETFROM:-0500
TZOFFSETTO:-0400
TZNAME:EDT
DTSTART:20210314T070000
END:DAYLIGHT
BEGIN:STANDARD
TZOFFSETFROM:-0400
TZOFFSETTO:-0500
TZNAME:EST
DTSTART:20211107T060000
END:STANDARD
BEGIN:DAYLIGHT
TZOFFSETFROM:-0500
TZOFFSETTO:-0400
TZNAME:EDT
DTSTART:20220313T070000
END:DAYLIGHT
BEGIN:STANDARD
TZOFFSETFROM:-0400
TZOFFSETTO:-0500
TZNAME:EST
DTSTART:20221106T060000
END:STANDARD
END:VTIMEZONE
BEGIN:VEVENT
DTSTART;TZID=America/New_York:20211217T193000
DTEND;TZID=America/New_York:20211217T230000
DTSTAMP:20260424T181946
CREATED:20211121T195315Z
LAST-MODIFIED:20211217T171001Z
UID:27504-1639769400-1639782000@thevelvetnote.com
SUMMARY:Friday\, December 17th:  Jazz Crooner Keenan Blount
DESCRIPTION:Take the phrasing of Sinatra\, blend in the velvet styling of Nat King Cole and the soulful passion of Tony Bennett and you’ve got the formula for Love. Crooner Keenan Blount takes you through spirit of the season. \n\n\n\n7:30 shows are SOLD OUT!   Purchase 9:30 seats below:
URL:https://thevelvetnote.com/event/friday-december-17th-jazz-crooner-keenan-blount/
ATTACH;FMTTYPE=image/jpeg:https://thevelvetnote.com/wp-content/uploads/2021/11/7E191A7D-1D76-461D-BBFE-2284A8BB97AA.jpeg
END:VEVENT
END:VCALENDAR