BEGIN:VCALENDAR
VERSION:2.0
PRODID:-//The Velvet Note - ECPv6.15.20//NONSGML v1.0//EN
CALSCALE:GREGORIAN
METHOD:PUBLISH
X-ORIGINAL-URL:https://thevelvetnote.com
X-WR-CALDESC:Events for The Velvet Note
REFRESH-INTERVAL;VALUE=DURATION:PT1H
X-Robots-Tag:noindex
X-PUBLISHED-TTL:PT1H
BEGIN:VTIMEZONE
TZID:America/New_York
BEGIN:DAYLIGHT
TZOFFSETFROM:-0500
TZOFFSETTO:-0400
TZNAME:EDT
DTSTART:20200308T070000
END:DAYLIGHT
BEGIN:STANDARD
TZOFFSETFROM:-0400
TZOFFSETTO:-0500
TZNAME:EST
DTSTART:20201101T060000
END:STANDARD
BEGIN:DAYLIGHT
TZOFFSETFROM:-0500
TZOFFSETTO:-0400
TZNAME:EDT
DTSTART:20210314T070000
END:DAYLIGHT
BEGIN:STANDARD
TZOFFSETFROM:-0400
TZOFFSETTO:-0500
TZNAME:EST
DTSTART:20211107T060000
END:STANDARD
BEGIN:DAYLIGHT
TZOFFSETFROM:-0500
TZOFFSETTO:-0400
TZNAME:EDT
DTSTART:20220313T070000
END:DAYLIGHT
BEGIN:STANDARD
TZOFFSETFROM:-0400
TZOFFSETTO:-0500
TZNAME:EST
DTSTART:20221106T060000
END:STANDARD
END:VTIMEZONE
BEGIN:VEVENT
DTSTART;TZID=America/New_York:20211212T190000
DTEND;TZID=America/New_York:20211212T203000
DTSTAMP:20260424T182021
CREATED:20211206T200733Z
LAST-MODIFIED:20211211T223956Z
UID:27585-1639335600-1639341000@thevelvetnote.com
SUMMARY:Sunday\, December 12th:  OrpheusMaXX   *** SOLD OUT!!   SOLD OUT!!   SOLD OUT!!  ***
DESCRIPTION:ONE SHOW ONLY: 7:00PM AND 8:30PM. Orpheus MaXX is a collective of legacy jazz musicians who are committed to honoring the history of great jazz music while applying their imaginations to its modern arrangements. The group stars American drummer\, composer and arranger Eric Vaughn. Vaughn is the youngest inductee to the Coastal Jazz Hall of Fame where he received the award for his life’s contributions to the international jazz and art community. \n\n\n\nAlso featuring: Award-winning legacy pianist Kenny Banks\, Jr.\, Trumpeter Terence Harper and Bassist Delbert Felix. \n\n\n\nVaughn moved to Berlin in January 2010 and is the resident jazz curator at the Wekstatt der Kulturen\, which produces music and art events. He performs and tours throughout Europe\, and as a composer/arranger\, has worked on musical projects for CNN and Walt Disney with jazz guitarist Kurt Rosenwinkel. \n\n\n\n\n\n\n\n\n\n****   SOLD OUT!!!   SOLD OUT!!!   SOLD OUT!!!  SOLD OUT!!!   SOLD OUT  !!! ****
URL:https://thevelvetnote.com/event/sunday-december-12th-orpheusmaxx/
LOCATION:The Velvet Note Main Stage\, 4075 Old Milton Parkway\, Alpharetta\, 30005\, United States
ATTACH;FMTTYPE=image/jpeg:https://thevelvetnote.com/wp-content/uploads/2021/12/Eric-Vaughn-Delbert-Felix-Kenny-Banks-Jr.-Terence-Harper-2.jpg
END:VEVENT
END:VCALENDAR