BEGIN:VCALENDAR
VERSION:2.0
PRODID:-//The Velvet Note - ECPv6.15.20//NONSGML v1.0//EN
CALSCALE:GREGORIAN
METHOD:PUBLISH
X-WR-CALNAME:The Velvet Note
X-ORIGINAL-URL:https://thevelvetnote.com
X-WR-CALDESC:Events for The Velvet Note
REFRESH-INTERVAL;VALUE=DURATION:PT1H
X-Robots-Tag:noindex
X-PUBLISHED-TTL:PT1H
BEGIN:VTIMEZONE
TZID:America/New_York
BEGIN:DAYLIGHT
TZOFFSETFROM:-0500
TZOFFSETTO:-0400
TZNAME:EDT
DTSTART:20200308T070000
END:DAYLIGHT
BEGIN:STANDARD
TZOFFSETFROM:-0400
TZOFFSETTO:-0500
TZNAME:EST
DTSTART:20201101T060000
END:STANDARD
BEGIN:DAYLIGHT
TZOFFSETFROM:-0500
TZOFFSETTO:-0400
TZNAME:EDT
DTSTART:20210314T070000
END:DAYLIGHT
BEGIN:STANDARD
TZOFFSETFROM:-0400
TZOFFSETTO:-0500
TZNAME:EST
DTSTART:20211107T060000
END:STANDARD
BEGIN:DAYLIGHT
TZOFFSETFROM:-0500
TZOFFSETTO:-0400
TZNAME:EDT
DTSTART:20220313T070000
END:DAYLIGHT
BEGIN:STANDARD
TZOFFSETFROM:-0400
TZOFFSETTO:-0500
TZNAME:EST
DTSTART:20221106T060000
END:STANDARD
END:VTIMEZONE
BEGIN:VEVENT
DTSTART;TZID=America/New_York:20211201T170000
DTEND;TZID=America/New_York:20211201T220000
DTSTAMP:20260424T181616
CREATED:20211006T164158Z
LAST-MODIFIED:20211115T195557Z
UID:27319-1638378000-1638396000@thevelvetnote.com
SUMMARY:Wednesday\, December 1st: JazzyCrab!
DESCRIPTION:This is your chance to try our acclaimed Chesapeake Bay\, Jumbo Lump crabcakes\, all night long!  Great deals on food and drink\, live music (8-10)\, and NO ENTRY FEE!  Come on out with your gang and enjoy! \n\n\n\nFeatured Artist– Wildman and The Funky Soul Band \n\n\n\nReservations are NOT REQUIRED\, but if you want to make one\, call 855.5.VELVET
URL:https://thevelvetnote.com/event/brand-new-jazzycrab-wednesdays/
ATTACH;FMTTYPE=image/jpeg:https://thevelvetnote.com/wp-content/uploads/2021/07/Untitled-design-44.jpg
END:VEVENT
END:VCALENDAR