BEGIN:VCALENDAR
VERSION:2.0
PRODID:-//The Velvet Note - ECPv6.15.20//NONSGML v1.0//EN
CALSCALE:GREGORIAN
METHOD:PUBLISH
X-ORIGINAL-URL:https://thevelvetnote.com
X-WR-CALDESC:Events for The Velvet Note
REFRESH-INTERVAL;VALUE=DURATION:PT1H
X-Robots-Tag:noindex
X-PUBLISHED-TTL:PT1H
BEGIN:VTIMEZONE
TZID:America/New_York
BEGIN:DAYLIGHT
TZOFFSETFROM:-0500
TZOFFSETTO:-0400
TZNAME:EDT
DTSTART:20200308T070000
END:DAYLIGHT
BEGIN:STANDARD
TZOFFSETFROM:-0400
TZOFFSETTO:-0500
TZNAME:EST
DTSTART:20201101T060000
END:STANDARD
BEGIN:DAYLIGHT
TZOFFSETFROM:-0500
TZOFFSETTO:-0400
TZNAME:EDT
DTSTART:20210314T070000
END:DAYLIGHT
BEGIN:STANDARD
TZOFFSETFROM:-0400
TZOFFSETTO:-0500
TZNAME:EST
DTSTART:20211107T060000
END:STANDARD
BEGIN:DAYLIGHT
TZOFFSETFROM:-0500
TZOFFSETTO:-0400
TZNAME:EDT
DTSTART:20220313T070000
END:DAYLIGHT
BEGIN:STANDARD
TZOFFSETFROM:-0400
TZOFFSETTO:-0500
TZNAME:EST
DTSTART:20221106T060000
END:STANDARD
END:VTIMEZONE
BEGIN:VEVENT
DTSTART;TZID=America/New_York:20211121T193000
DTEND;TZID=America/New_York:20211121T220000
DTSTAMP:20260424T200433
CREATED:20211105T033757Z
LAST-MODIFIED:20211105T033846Z
UID:27463-1637523000-1637532000@thevelvetnote.com
SUMMARY:Sunday\, November 21st:  Our Annual Steely Dan Tribute Thanksgiving Jam
DESCRIPTION:THIS is your chance to spend an exhilarating evening celebrating the music of Steely Dan!  Donald Fagen and Walter Becker accomplished over 40 years in music\, and we love to honor their success. This is a feast for the listening ear that grew up on this great music and appreciates live performance. Musicians will include an array of local\, passionate instrumentalists and vocals\, with Adrian Ash herding the cats and guiding us through the songbook.
URL:https://thevelvetnote.com/event/sunday-november-21st-our-annual-steely-dan-tribute-thanksgiving-jam/
LOCATION:The Velvet Note Main Stage\, 4075 Old Milton Parkway\, Alpharetta\, 30005\, United States
ATTACH;FMTTYPE=image/jpeg:https://thevelvetnote.com/wp-content/uploads/2021/11/BE24B465-7666-44F6-AB7D-C03D7FD368D5.jpeg
END:VEVENT
END:VCALENDAR