BEGIN:VCALENDAR
VERSION:2.0
PRODID:-//The Velvet Note - ECPv6.15.20//NONSGML v1.0//EN
CALSCALE:GREGORIAN
METHOD:PUBLISH
X-WR-CALNAME:The Velvet Note
X-ORIGINAL-URL:https://thevelvetnote.com
X-WR-CALDESC:Events for The Velvet Note
REFRESH-INTERVAL;VALUE=DURATION:PT1H
X-Robots-Tag:noindex
X-PUBLISHED-TTL:PT1H
BEGIN:VTIMEZONE
TZID:America/New_York
BEGIN:DAYLIGHT
TZOFFSETFROM:-0500
TZOFFSETTO:-0400
TZNAME:EDT
DTSTART:20200308T070000
END:DAYLIGHT
BEGIN:STANDARD
TZOFFSETFROM:-0400
TZOFFSETTO:-0500
TZNAME:EST
DTSTART:20201101T060000
END:STANDARD
BEGIN:DAYLIGHT
TZOFFSETFROM:-0500
TZOFFSETTO:-0400
TZNAME:EDT
DTSTART:20210314T070000
END:DAYLIGHT
BEGIN:STANDARD
TZOFFSETFROM:-0400
TZOFFSETTO:-0500
TZNAME:EST
DTSTART:20211107T060000
END:STANDARD
BEGIN:DAYLIGHT
TZOFFSETFROM:-0500
TZOFFSETTO:-0400
TZNAME:EDT
DTSTART:20220313T070000
END:DAYLIGHT
BEGIN:STANDARD
TZOFFSETFROM:-0400
TZOFFSETTO:-0500
TZNAME:EST
DTSTART:20221106T060000
END:STANDARD
END:VTIMEZONE
BEGIN:VEVENT
DTSTART;TZID=America/New_York:20211120T193000
DTEND;TZID=America/New_York:20211120T230000
DTSTAMP:20260424T200406
CREATED:20211102T232418Z
LAST-MODIFIED:20211108T094740Z
UID:27432-1637436600-1637449200@thevelvetnote.com
SUMMARY:Saturday\, November 20th:  The Eric Wyatt Quartet also starring Jeff "Tain" Watts
DESCRIPTION:A Song of Hope\,his second album for Whaling City Sound\, saxophonist Eric Wyatt more than hope; he offers assurance that contemporary jazz is alive and well in and around his home base of Brooklyn\, NY. Wyatt\, the godson of another rather well-known saxophonist\, Sonny Rollins\, performs in groups of various sizes\, from quartet to octet\, with vocals by Samara Joy on two numbers\, “Fragile” and Wyatt’s “Say Her Name.” The almost-constants are pianist Donald Vega\, bassist Eric Wheeler and drummer Jeff Watts\, who are on board for eight numbers but step aside for a pair of Wyatt-Watts duets and are replaced by bassist Mike Boone and his talented fourteen-year-old son\, drummer Mekhi Boone\, on John Coltrane‘s “Central Park West” and McCoy Tyner‘s “Contemplation.”  \n \n \nWhile there are occasional glimpses of Rollins (and Coltrane) in Wyatt’s broad-shouldered tenor\, for the most part it is strictly Wyatt\, blowing with awareness and enthusiasm on every number. That is to say\, almost every number\, as he plays soprano on “Fragile” whose oracular lyric (by Sting) no doubt conveys a profound message to today’s younger listeners.
URL:https://thevelvetnote.com/event/saturday-november-20th-eric-wyatt-also-starring-jeff-tain-watts/
LOCATION:The Velvet Note Main Stage\, 4075 Old Milton Parkway\, Alpharetta\, 30005\, United States
ATTACH;FMTTYPE=image/jpeg:https://thevelvetnote.com/wp-content/uploads/2021/11/Add-a-subheading-14-1.jpg
END:VEVENT
END:VCALENDAR