BEGIN:VCALENDAR
VERSION:2.0
PRODID:-//The Velvet Note - ECPv6.15.20//NONSGML v1.0//EN
CALSCALE:GREGORIAN
METHOD:PUBLISH
X-WR-CALNAME:The Velvet Note
X-ORIGINAL-URL:https://thevelvetnote.com
X-WR-CALDESC:Events for The Velvet Note
REFRESH-INTERVAL;VALUE=DURATION:PT1H
X-Robots-Tag:noindex
X-PUBLISHED-TTL:PT1H
BEGIN:VTIMEZONE
TZID:America/New_York
BEGIN:DAYLIGHT
TZOFFSETFROM:-0500
TZOFFSETTO:-0400
TZNAME:EDT
DTSTART:20200308T070000
END:DAYLIGHT
BEGIN:STANDARD
TZOFFSETFROM:-0400
TZOFFSETTO:-0500
TZNAME:EST
DTSTART:20201101T060000
END:STANDARD
BEGIN:DAYLIGHT
TZOFFSETFROM:-0500
TZOFFSETTO:-0400
TZNAME:EDT
DTSTART:20210314T070000
END:DAYLIGHT
BEGIN:STANDARD
TZOFFSETFROM:-0400
TZOFFSETTO:-0500
TZNAME:EST
DTSTART:20211107T060000
END:STANDARD
BEGIN:DAYLIGHT
TZOFFSETFROM:-0500
TZOFFSETTO:-0400
TZNAME:EDT
DTSTART:20220313T070000
END:DAYLIGHT
BEGIN:STANDARD
TZOFFSETFROM:-0400
TZOFFSETTO:-0500
TZNAME:EST
DTSTART:20221106T060000
END:STANDARD
END:VTIMEZONE
BEGIN:VEVENT
DTSTART;TZID=America/New_York:20211107T190000
DTEND;TZID=America/New_York:20211107T203000
DTSTAMP:20260424T200406
CREATED:20211102T010931Z
LAST-MODIFIED:20211107T195232Z
UID:27413-1636311600-1636317000@thevelvetnote.com
SUMMARY:Sunday\, November 7th:  Songs of Pannonica *** SOLD OUT!!   SOLD OUT!!  SOLD OUT!!  **
DESCRIPTION:The Velvet Note presents another segment of its ninth series of Legends of Jazz\, featuring the music inspired by the jazz champion\, friend and unlikely benefactor Baronness Kathleen Pannonica Rothschild.  As with the entire monthly Legends of Jazz series\, The Justin Varnes Quartet will guide guests–in engaging\, narrative form– through the life and music of this great character in the history and culture of jazz. It’s like taking in a concert and taking a jazz history class at the same time\, and…\, oh… they’ll also play their behinds off!​ 
URL:https://thevelvetnote.com/event/sunday-november-7th-songs-of-pannonica/
LOCATION:The Velvet Note Main Stage\, 4075 Old Milton Parkway\, Alpharetta\, 30005\, United States
ATTACH;FMTTYPE=image/jpeg:https://thevelvetnote.com/wp-content/uploads/2021/11/EDEBC147-12DA-4F7B-B51B-5C5BCD988C71.jpeg
END:VEVENT
END:VCALENDAR