BEGIN:VCALENDAR
VERSION:2.0
PRODID:-//The Velvet Note - ECPv6.15.20//NONSGML v1.0//EN
CALSCALE:GREGORIAN
METHOD:PUBLISH
X-ORIGINAL-URL:https://thevelvetnote.com
X-WR-CALDESC:Events for The Velvet Note
REFRESH-INTERVAL;VALUE=DURATION:PT1H
X-Robots-Tag:noindex
X-PUBLISHED-TTL:PT1H
BEGIN:VTIMEZONE
TZID:America/New_York
BEGIN:DAYLIGHT
TZOFFSETFROM:-0500
TZOFFSETTO:-0400
TZNAME:EDT
DTSTART:20200308T070000
END:DAYLIGHT
BEGIN:STANDARD
TZOFFSETFROM:-0400
TZOFFSETTO:-0500
TZNAME:EST
DTSTART:20201101T060000
END:STANDARD
BEGIN:DAYLIGHT
TZOFFSETFROM:-0500
TZOFFSETTO:-0400
TZNAME:EDT
DTSTART:20210314T070000
END:DAYLIGHT
BEGIN:STANDARD
TZOFFSETFROM:-0400
TZOFFSETTO:-0500
TZNAME:EST
DTSTART:20211107T060000
END:STANDARD
BEGIN:DAYLIGHT
TZOFFSETFROM:-0500
TZOFFSETTO:-0400
TZNAME:EDT
DTSTART:20220313T070000
END:DAYLIGHT
BEGIN:STANDARD
TZOFFSETFROM:-0400
TZOFFSETTO:-0500
TZNAME:EST
DTSTART:20221106T060000
END:STANDARD
END:VTIMEZONE
BEGIN:VEVENT
DTSTART;TZID=America/New_York:20211024T190000
DTEND;TZID=America/New_York:20211024T203000
DTSTAMP:20260424T213037
CREATED:20211013T021423Z
LAST-MODIFIED:20211022T155259Z
UID:27340-1635102000-1635107400@thevelvetnote.com
SUMMARY:Sunday\, October 24th:  Legends of Jazz Presents Branford Marsalis' Crazy People Music
DESCRIPTION:*****  SOLD OUT!!   SOLD OUT!!!   SOLD OUT!!   SOLD OUT!!    SOLD OUT!!!  **** \n\n\n\n\n\n\n\n\n\nThe Velvet Note presents another segment of its ninth series of Legends of Jazz\, featuring the music of Branford Marsalis. As with the entire monthly Legends of Jazz series\, The Justin Varnes Quartet will guide guests–in engaging\, narrative form– through the life and music of this great American composer and saxophonist. It’s like taking in a concert and taking a jazz history class at the same time\, and…\, oh… they’ll also play their behinds off!​  \n\n\n\n\n\n****   SOLD OUT!!  SOLD OUT!!   SOLD OUT!!   SOLD OUT!!  ***
URL:https://thevelvetnote.com/event/sunday-october-24th-legends-of-jazz-presents-branford-marsalis-crazy-peoples-music/
ATTACH;FMTTYPE=image/jpeg:https://thevelvetnote.com/wp-content/uploads/2021/10/F8AEFA49-059D-4ED2-A1C8-9C9F31964984-1.jpeg
END:VEVENT
END:VCALENDAR